BEGIN:VCALENDAR
VERSION:2.0
PRODID:-//dartdebica.pl - ECPv6.15.20//NONSGML v1.0//EN
CALSCALE:GREGORIAN
METHOD:PUBLISH
X-WR-CALNAME:dartdebica.pl
X-ORIGINAL-URL:https://dartdebica.pl
X-WR-CALDESC:Events for dartdebica.pl
REFRESH-INTERVAL;VALUE=DURATION:PT1H
X-Robots-Tag:noindex
X-PUBLISHED-TTL:PT1H
BEGIN:VTIMEZONE
TZID:Europe/Warsaw
BEGIN:DAYLIGHT
TZOFFSETFROM:+0100
TZOFFSETTO:+0200
TZNAME:CEST
DTSTART:20250330T010000
END:DAYLIGHT
BEGIN:STANDARD
TZOFFSETFROM:+0200
TZOFFSETTO:+0100
TZNAME:CET
DTSTART:20251026T010000
END:STANDARD
BEGIN:DAYLIGHT
TZOFFSETFROM:+0100
TZOFFSETTO:+0200
TZNAME:CEST
DTSTART:20260329T010000
END:DAYLIGHT
BEGIN:STANDARD
TZOFFSETFROM:+0200
TZOFFSETTO:+0100
TZNAME:CET
DTSTART:20261025T010000
END:STANDARD
BEGIN:DAYLIGHT
TZOFFSETFROM:+0100
TZOFFSETTO:+0200
TZNAME:CEST
DTSTART:20270328T010000
END:DAYLIGHT
BEGIN:STANDARD
TZOFFSETFROM:+0200
TZOFFSETTO:+0100
TZNAME:CET
DTSTART:20271031T010000
END:STANDARD
END:VTIMEZONE
BEGIN:VEVENT
DTSTART;TZID=Europe/Warsaw:20260419T140000
DTEND;TZID=Europe/Warsaw:20260419T223000
DTSTAMP:20260419T153545
CREATED:20260113T170337Z
LAST-MODIFIED:20260113T170429Z
UID:1142-1776607200-1776637800@dartdebica.pl
SUMMARY:Western Dart Series II / Turniej #8
DESCRIPTION:
URL:https://dartdebica.pl/?tribe_events=western-dart-series-ii-turniej-8
LOCATION:Western\, I. Krasickiego 25\, Nowa Dęba\, podkarpackie\, 39-460\, Poland
END:VEVENT
END:VCALENDAR